BEGIN:VCALENDAR
PRODID:-//Pixl8//Eventfolio//EN
VERSION:2.0
X-WR-TIMEZONE:Europe/Berlin
CALSCALE:GREGORIAN
METHOD:PUBLISH
CLASS:PUBLIC
BEGIN:VTIMEZONE
TZID:Europe/Berlin
LAST-MODIFIED:20260306T231828Z
TZURL:https://www.tzurl.org/zoneinfo-outlook/Europe/Berlin
X-LIC-LOCATION:Europe/Berlin
BEGIN:DAYLIGHT
TZNAME:CEST
TZOFFSETFROM:+0100
TZOFFSETTO:+0200
DTSTART:19700329T020000
RRULE:FREQ=YEARLY;BYMONTH=3;BYDAY=-1SU
END:DAYLIGHT
BEGIN:STANDARD
TZNAME:CET
TZOFFSETFROM:+0200
TZOFFSETTO:+0100
DTSTART:19701025T030000
RRULE:FREQ=YEARLY;BYMONTH=10;BYDAY=-1SU
END:STANDARD
END:VTIMEZONE
BEGIN:VEVENT
DTSTART;TZID=Europe/Berlin;VALUE=DATE:20241125
DTEND;TZID=Europe/Berlin;VALUE=DATE:20241127
DTSTAMP:20260423T141542Z
UID:{CD49BF42-58BC-4186-9874ED47DF7D75AD}
LOCATION:Berlin\, Germany
SUMMARY:ECStA General Assembly 2024
DESCRIPTION:This ECStA (European Council for Student Affairs) event is the main annual meeting for the association.\n
 \n
 Event details: https://www.amosshe.org.uk/latest/event-calendar/ecsta-general-assembly-2024.html
PRIORITY:1
END:VEVENT
END:VCALENDAR