BEGIN:VCALENDAR
PRODID:-//Pixl8//Eventfolio//EN
VERSION:2.0
X-WR-TIMEZONE:Europe/London
CALSCALE:GREGORIAN
METHOD:PUBLISH
CLASS:PUBLIC
BEGIN:VTIMEZONE
TZID:Europe/London
LAST-MODIFIED:20260306T231828Z
TZURL:https://www.tzurl.org/zoneinfo-outlook/Europe/London
X-LIC-LOCATION:Europe/London
BEGIN:DAYLIGHT
TZNAME:BST
TZOFFSETFROM:+0000
TZOFFSETTO:+0100
DTSTART:19700329T010000
RRULE:FREQ=YEARLY;BYMONTH=3;BYDAY=-1SU
END:DAYLIGHT
BEGIN:STANDARD
TZNAME:GMT
TZOFFSETFROM:+0100
TZOFFSETTO:+0000
DTSTART:19701025T020000
RRULE:FREQ=YEARLY;BYMONTH=10;BYDAY=-1SU
END:STANDARD
END:VTIMEZONE
BEGIN:VEVENT
DTSTART;TZID=Europe/London;VALUE=DATE:20250408
DTEND;TZID=Europe/London;VALUE=DATE:20250409
DTSTAMP:20260425T231606Z
UID:{D69484E6-1EF0-4B71-A43B5E3FDD31EC02}
LOCATION:Online
SUMMARY:Effective incident communication: strategies for apologies, complaints, and resolution meetings
DESCRIPTION:This Healthcare Conferences UK event provides guidance on how to manage difficult conversations with patients, and their families, following an incident.\n
 \n
 Event details: https://www.amosshe.org.uk/latest/event-calendar/effective-incident-communication-strategies-for-apologies-complaints-and-resolution-meetings.html
PRIORITY:1
END:VEVENT
END:VCALENDAR