BEGIN:VCALENDAR
PRODID:-//Pixl8//Eventfolio//EN
VERSION:2.0
X-WR-TIMEZONE:Europe/London
CALSCALE:GREGORIAN
METHOD:PUBLISH
CLASS:PUBLIC
BEGIN:VTIMEZONE
TZID:Europe/London
LAST-MODIFIED:20260306T231828Z
TZURL:https://www.tzurl.org/zoneinfo-outlook/Europe/London
X-LIC-LOCATION:Europe/London
BEGIN:DAYLIGHT
TZNAME:BST
TZOFFSETFROM:+0000
TZOFFSETTO:+0100
DTSTART:19700329T010000
RRULE:FREQ=YEARLY;BYMONTH=3;BYDAY=-1SU
END:DAYLIGHT
BEGIN:STANDARD
TZNAME:GMT
TZOFFSETFROM:+0100
TZOFFSETTO:+0000
DTSTART:19701025T020000
RRULE:FREQ=YEARLY;BYMONTH=10;BYDAY=-1SU
END:STANDARD
END:VTIMEZONE
BEGIN:VEVENT
DTSTART;TZID=Europe/London:20241120T100000
DTEND;TZID=Europe/London:20241120T160000
DTSTAMP:20260423T141441Z
UID:{9A73A72B-12A8-4154-98CF1C28F88F3F56}
LOCATION:London\, United Kingdom
SUMMARY:Emotional intelligence leadership
DESCRIPTION:This Civil Service College event introduces the key concepts of emotional intelligence and equips those in senior positions with the skills and knowledge to lead their teams through this time of challenge.​​​​​​​\n
 \n
 Event details: https://www.amosshe.org.uk/latest/event-calendar/emotional-intelligence-leadership.html
PRIORITY:1
END:VEVENT
END:VCALENDAR