BEGIN:VCALENDAR
PRODID:-//Pixl8//Eventfolio//EN
VERSION:2.0
X-WR-TIMEZONE:America/New_York
CALSCALE:GREGORIAN
METHOD:PUBLISH
CLASS:PUBLIC
BEGIN:VTIMEZONE
TZID:America/New_York
LAST-MODIFIED:20260306T231828Z
TZURL:https://www.tzurl.org/zoneinfo-outlook/America/New_York
X-LIC-LOCATION:America/New_York
BEGIN:DAYLIGHT
TZNAME:EDT
TZOFFSETFROM:-0500
TZOFFSETTO:-0400
DTSTART:19700308T020000
RRULE:FREQ=YEARLY;BYMONTH=3;BYDAY=2SU
END:DAYLIGHT
BEGIN:STANDARD
TZNAME:EST
TZOFFSETFROM:-0400
TZOFFSETTO:-0500
DTSTART:19701101T020000
RRULE:FREQ=YEARLY;BYMONTH=11;BYDAY=1SU
END:STANDARD
END:VTIMEZONE
BEGIN:VEVENT
DTSTART;TZID=America/New_York;VALUE=DATE:20250227
DTEND;TZID=America/New_York;VALUE=DATE:20250228
DTSTAMP:20260425T231253Z
UID:{DAD24110-9832-4A68-8D6DC87FE81EE87E}
LOCATION:Online
SUMMARY:Ensuring diversity, equity & inclusion in the online learning environment
DESCRIPTION:This US-based Innovative Educators event to ensure equity and inclusion during your accessibility considerations.\n
 \n
 Event details: https://www.amosshe.org.uk/latest/event-calendar/ensuring-diversity-equity-inclusion-in-the-online-learning-environment.html
PRIORITY:1
END:VEVENT
END:VCALENDAR