BEGIN:VCALENDAR
PRODID:-//Pixl8//Eventfolio//EN
VERSION:2.0
X-WR-TIMEZONE:Europe/London
CALSCALE:GREGORIAN
METHOD:PUBLISH
CLASS:PUBLIC
BEGIN:VTIMEZONE
TZID:Europe/London
LAST-MODIFIED:20260306T231828Z
TZURL:https://www.tzurl.org/zoneinfo-outlook/Europe/London
X-LIC-LOCATION:Europe/London
BEGIN:DAYLIGHT
TZNAME:BST
TZOFFSETFROM:+0000
TZOFFSETTO:+0100
DTSTART:19700329T010000
RRULE:FREQ=YEARLY;BYMONTH=3;BYDAY=-1SU
END:DAYLIGHT
BEGIN:STANDARD
TZNAME:GMT
TZOFFSETFROM:+0100
TZOFFSETTO:+0000
DTSTART:19701025T020000
RRULE:FREQ=YEARLY;BYMONTH=10;BYDAY=-1SU
END:STANDARD
END:VTIMEZONE
BEGIN:VEVENT
DTSTART;TZID=Europe/London;VALUE=DATE:20251126
DTEND;TZID=Europe/London;VALUE=DATE:20251127
DTSTAMP:20260425T163233Z
UID:{99CF9189-5AB7-45AF-9AA22481B16032CB}
LOCATION:Canterbury\, United Kingdom
SUMMARY:Ensuring the success of commuter students symposium
DESCRIPTION:This free collaborative event hosted by academics at Canterbury Christ Church University and the University of Plymouth provides a forum for professionals so they can connect, share and innovate their support for commuter students.\n
 \n
 Event details: https://www.amosshe.org.uk/latest/event-calendar/ensuring-the-success-of-commuter-students-symposium.html
PRIORITY:1
END:VEVENT
END:VCALENDAR