BEGIN:VCALENDAR
PRODID:-//Pixl8//Eventfolio//EN
VERSION:2.0
X-WR-TIMEZONE:Europe/London
CALSCALE:GREGORIAN
METHOD:PUBLISH
CLASS:PUBLIC
BEGIN:VTIMEZONE
TZID:Europe/London
LAST-MODIFIED:20260306T231828Z
TZURL:https://www.tzurl.org/zoneinfo-outlook/Europe/London
X-LIC-LOCATION:Europe/London
BEGIN:DAYLIGHT
TZNAME:BST
TZOFFSETFROM:+0000
TZOFFSETTO:+0100
DTSTART:19700329T010000
RRULE:FREQ=YEARLY;BYMONTH=3;BYDAY=-1SU
END:DAYLIGHT
BEGIN:STANDARD
TZNAME:GMT
TZOFFSETFROM:+0100
TZOFFSETTO:+0000
DTSTART:19701025T020000
RRULE:FREQ=YEARLY;BYMONTH=10;BYDAY=-1SU
END:STANDARD
END:VTIMEZONE
BEGIN:VEVENT
DTSTART;TZID=Europe/London;VALUE=DATE:20250402
DTEND;TZID=Europe/London;VALUE=DATE:20250404
DTSTAMP:20260423T115216Z
UID:{D427A85E-B06E-4C08-9665A7D5603D8F7B}
LOCATION:Newcastle\, United Kingdom
SUMMARY:Equality, diversity and inclusion conference 2025
DESCRIPTION:This Advance HE event provides space to reflect and refresh our approaches to equity, diversity, and inclusion, share our successes, and contribute to a collective discussion about how we are understanding and working with intersectional identities and experiences in higher education across the globe.\n
 \n
 Event details: https://www.amosshe.org.uk/latest/event-calendar/equality-diversity-and-inclusion-conference-2025.html
PRIORITY:1
END:VEVENT
END:VCALENDAR