BEGIN:VCALENDAR
PRODID:-//Pixl8//Eventfolio//EN
VERSION:2.0
X-WR-TIMEZONE:Europe/Malta
CALSCALE:GREGORIAN
METHOD:PUBLISH
CLASS:PUBLIC
BEGIN:VTIMEZONE
TZID:Europe/Malta
LAST-MODIFIED:20260306T231828Z
TZURL:https://www.tzurl.org/zoneinfo-outlook/Europe/Malta
X-LIC-LOCATION:Europe/Malta
BEGIN:DAYLIGHT
TZNAME:CEST
TZOFFSETFROM:+0100
TZOFFSETTO:+0200
DTSTART:19700329T020000
RRULE:FREQ=YEARLY;BYMONTH=3;BYDAY=-1SU
END:DAYLIGHT
BEGIN:STANDARD
TZNAME:CET
TZOFFSETFROM:+0200
TZOFFSETTO:+0100
DTSTART:19701025T030000
RRULE:FREQ=YEARLY;BYMONTH=10;BYDAY=-1SU
END:STANDARD
END:VTIMEZONE
BEGIN:VEVENT
DTSTART;TZID=Europe/Malta;VALUE=DATE:20241120
DTEND;TZID=Europe/Malta;VALUE=DATE:20241123
DTSTAMP:20260425T231457Z
UID:{8D6E8015-3BDB-469C-B90CAE947B5B8F0B}
LOCATION:St. Julian's\, Malta
SUMMARY:European Conference for Student Affairs and Services
DESCRIPTION:This European university college Association event provides education, training, resources, and support to professionals working in Student Affairs roles around the world.\n
 \n
 Event details: https://www.amosshe.org.uk/latest/event-calendar/european-conference-for-student-affairs-and-services.html
PRIORITY:1
END:VEVENT
END:VCALENDAR