BEGIN:VCALENDAR
PRODID:-//Pixl8//Eventfolio//EN
VERSION:2.0
X-WR-TIMEZONE:Europe/London
CALSCALE:GREGORIAN
METHOD:PUBLISH
CLASS:PUBLIC
BEGIN:VTIMEZONE
TZID:Europe/London
LAST-MODIFIED:20260306T231828Z
TZURL:https://www.tzurl.org/zoneinfo-outlook/Europe/London
X-LIC-LOCATION:Europe/London
BEGIN:DAYLIGHT
TZNAME:BST
TZOFFSETFROM:+0000
TZOFFSETTO:+0100
DTSTART:19700329T010000
RRULE:FREQ=YEARLY;BYMONTH=3;BYDAY=-1SU
END:DAYLIGHT
BEGIN:STANDARD
TZNAME:GMT
TZOFFSETFROM:+0100
TZOFFSETTO:+0000
DTSTART:19701025T020000
RRULE:FREQ=YEARLY;BYMONTH=10;BYDAY=-1SU
END:STANDARD
END:VTIMEZONE
BEGIN:VEVENT
DTSTART;TZID=Europe/London;VALUE=DATE:20250319
DTEND;TZID=Europe/London;VALUE=DATE:20250322
DTSTAMP:20260425T172919Z
UID:{3FC0A6A3-000C-45ED-9B2943E7D412781C}
LOCATION:Online
SUMMARY:European Students Affairs conference 2025
DESCRIPTION:This event concerns best practices and research in student support services so that all students can enjoy a successful and fulfilling student journey.\n
 \n
 Event details: https://www.amosshe.org.uk/latest/event-calendar/european-students-affairs-conference-2025.html
PRIORITY:1
END:VEVENT
END:VCALENDAR