BEGIN:VCALENDAR
PRODID:-//Pixl8//Eventfolio//EN
VERSION:2.0
X-WR-TIMEZONE:Europe/London
CALSCALE:GREGORIAN
METHOD:PUBLISH
CLASS:PUBLIC
BEGIN:VTIMEZONE
TZID:Europe/London
LAST-MODIFIED:20260306T231828Z
TZURL:https://www.tzurl.org/zoneinfo-outlook/Europe/London
X-LIC-LOCATION:Europe/London
BEGIN:DAYLIGHT
TZNAME:BST
TZOFFSETFROM:+0000
TZOFFSETTO:+0100
DTSTART:19700329T010000
RRULE:FREQ=YEARLY;BYMONTH=3;BYDAY=-1SU
END:DAYLIGHT
BEGIN:STANDARD
TZNAME:GMT
TZOFFSETFROM:+0100
TZOFFSETTO:+0000
DTSTART:19701025T020000
RRULE:FREQ=YEARLY;BYMONTH=10;BYDAY=-1SU
END:STANDARD
END:VTIMEZONE
BEGIN:VEVENT
DTSTART;TZID=Europe/London;VALUE=DATE:20250129
DTEND;TZID=Europe/London;VALUE=DATE:20250130
DTSTAMP:20260423T105540Z
UID:{5ED0FF3F-C8E9-4005-AF012CE95AF79D1E}
LOCATION:Online
SUMMARY:Exceeding regulations
DESCRIPTION:This free Culture Shift event helps you understand what your institution needs to do to comply to the Office for Students E6 condition.\n
 \n
 Event details: https://www.amosshe.org.uk/latest/event-calendar/exceeding-regulations.html
PRIORITY:1
END:VEVENT
END:VCALENDAR