BEGIN:VCALENDAR
PRODID:-//Pixl8//Eventfolio//EN
VERSION:2.0
X-WR-TIMEZONE:Europe/London
CALSCALE:GREGORIAN
METHOD:PUBLISH
CLASS:PUBLIC
BEGIN:VTIMEZONE
TZID:Europe/London
LAST-MODIFIED:20260306T231828Z
TZURL:https://www.tzurl.org/zoneinfo-outlook/Europe/London
X-LIC-LOCATION:Europe/London
BEGIN:DAYLIGHT
TZNAME:BST
TZOFFSETFROM:+0000
TZOFFSETTO:+0100
DTSTART:19700329T010000
RRULE:FREQ=YEARLY;BYMONTH=3;BYDAY=-1SU
END:DAYLIGHT
BEGIN:STANDARD
TZNAME:GMT
TZOFFSETFROM:+0100
TZOFFSETTO:+0000
DTSTART:19701025T020000
RRULE:FREQ=YEARLY;BYMONTH=10;BYDAY=-1SU
END:STANDARD
END:VTIMEZONE
BEGIN:VEVENT
DTSTART;TZID=Europe/London:20260429T110000
DTEND;TZID=Europe/London:20260429T120000
DTSTAMP:20260423T123527Z
UID:{F2317E39-6322-4455-AFE30372D4FA7C33}
LOCATION:Online
SUMMARY:Experiences of the University Mental Health Charter
DESCRIPTION:This free Student Minds webinar provides reflections from institutions that have participated in the University Mental Health Charter Award, and gives delegates an opportunity to ask questions ahead of programme registration.\n
 \n
 Event details: https://www.amosshe.org.uk/latest/event-calendar/experiences-of-the-university-mental-health-charter.html
PRIORITY:1
END:VEVENT
END:VCALENDAR