BEGIN:VCALENDAR
PRODID:-//Pixl8//Eventfolio//EN
VERSION:2.0
X-WR-TIMEZONE:America/New_York
CALSCALE:GREGORIAN
METHOD:PUBLISH
CLASS:PUBLIC
BEGIN:VTIMEZONE
TZID:America/New_York
LAST-MODIFIED:20260306T231828Z
TZURL:https://www.tzurl.org/zoneinfo-outlook/America/New_York
X-LIC-LOCATION:America/New_York
BEGIN:DAYLIGHT
TZNAME:EDT
TZOFFSETFROM:-0500
TZOFFSETTO:-0400
DTSTART:19700308T020000
RRULE:FREQ=YEARLY;BYMONTH=3;BYDAY=2SU
END:DAYLIGHT
BEGIN:STANDARD
TZNAME:EST
TZOFFSETFROM:-0400
TZOFFSETTO:-0500
DTSTART:19701101T020000
RRULE:FREQ=YEARLY;BYMONTH=11;BYDAY=1SU
END:STANDARD
END:VTIMEZONE
BEGIN:VEVENT
DTSTART;TZID=America/New_York;VALUE=DATE:20241107
DTEND;TZID=America/New_York;VALUE=DATE:20241108
DTSTAMP:20260423T110157Z
UID:{14EA0E4C-4EC3-4804-A3CE37DFA3B093F4}
LOCATION:Online
SUMMARY:Financially vulnerable students
DESCRIPTION:This US-based PaperClip Communications event explores a holistic, university-wide approach to address basic need access and improve persistence.\n
 \n
 Event details: https://www.amosshe.org.uk/latest/event-calendar/financially-vulnerable-students.html
PRIORITY:1
END:VEVENT
END:VCALENDAR