BEGIN:VCALENDAR
PRODID:-//Pixl8//Eventfolio//EN
VERSION:2.0
X-WR-TIMEZONE:America/New_York
CALSCALE:GREGORIAN
METHOD:PUBLISH
CLASS:PUBLIC
BEGIN:VTIMEZONE
TZID:America/New_York
LAST-MODIFIED:20260306T231828Z
TZURL:https://www.tzurl.org/zoneinfo-outlook/America/New_York
X-LIC-LOCATION:America/New_York
BEGIN:DAYLIGHT
TZNAME:EDT
TZOFFSETFROM:-0500
TZOFFSETTO:-0400
DTSTART:19700308T020000
RRULE:FREQ=YEARLY;BYMONTH=3;BYDAY=2SU
END:DAYLIGHT
BEGIN:STANDARD
TZNAME:EST
TZOFFSETFROM:-0400
TZOFFSETTO:-0500
DTSTART:19701101T020000
RRULE:FREQ=YEARLY;BYMONTH=11;BYDAY=1SU
END:STANDARD
END:VTIMEZONE
BEGIN:VEVENT
DTSTART;TZID=America/New_York;VALUE=DATE:20240930
DTEND;TZID=America/New_York;VALUE=DATE:20241001
DTSTAMP:20260423T105321Z
UID:{24CF4C03-ECF2-482A-9AA9BD89E55749D2}
LOCATION:Online
SUMMARY:First generation parents
DESCRIPTION:This US-based PaperClip Communications event helps you create recruitment, outreach, and engagement initiatives to help first-generation parents support their children's success.\n
 \n
 Event details: https://www.amosshe.org.uk/latest/event-calendar/first-generation-parents.html
PRIORITY:1
END:VEVENT
END:VCALENDAR