BEGIN:VCALENDAR
PRODID:-//Pixl8//Eventfolio//EN
VERSION:2.0
X-WR-TIMEZONE:Europe/London
CALSCALE:GREGORIAN
METHOD:PUBLISH
CLASS:PUBLIC
BEGIN:VTIMEZONE
TZID:Europe/London
LAST-MODIFIED:20260306T231828Z
TZURL:https://www.tzurl.org/zoneinfo-outlook/Europe/London
X-LIC-LOCATION:Europe/London
BEGIN:DAYLIGHT
TZNAME:BST
TZOFFSETFROM:+0000
TZOFFSETTO:+0100
DTSTART:19700329T010000
RRULE:FREQ=YEARLY;BYMONTH=3;BYDAY=-1SU
END:DAYLIGHT
BEGIN:STANDARD
TZNAME:GMT
TZOFFSETFROM:+0100
TZOFFSETTO:+0000
DTSTART:19701025T020000
RRULE:FREQ=YEARLY;BYMONTH=10;BYDAY=-1SU
END:STANDARD
END:VTIMEZONE
BEGIN:VEVENT
DTSTART;TZID=Europe/London;VALUE=DATE:20250313
DTEND;TZID=Europe/London;VALUE=DATE:20250314
DTSTAMP:20260423T105447Z
UID:{1BFEC7C9-5889-45DB-AC1C590697235DEC}
LOCATION:Online
SUMMARY:Fitness to Study panel training
DESCRIPTION:This Plinth House event explores the purpose of Fitness to Study panels, how we should plan and prepare for a panel meeting, how a panel should consider evidence about the student, and more.\n
 \n
 Event details: https://www.amosshe.org.uk/latest/event-calendar/fitness-to-study-panel-training.html
PRIORITY:1
END:VEVENT
END:VCALENDAR