BEGIN:VCALENDAR
PRODID:-//Pixl8//Eventfolio//EN
VERSION:2.0
X-WR-TIMEZONE:Europe/London
CALSCALE:GREGORIAN
METHOD:PUBLISH
CLASS:PUBLIC
BEGIN:VTIMEZONE
TZID:Europe/London
LAST-MODIFIED:20260306T231828Z
TZURL:https://www.tzurl.org/zoneinfo-outlook/Europe/London
X-LIC-LOCATION:Europe/London
BEGIN:DAYLIGHT
TZNAME:BST
TZOFFSETFROM:+0000
TZOFFSETTO:+0100
DTSTART:19700329T010000
RRULE:FREQ=YEARLY;BYMONTH=3;BYDAY=-1SU
END:DAYLIGHT
BEGIN:STANDARD
TZNAME:GMT
TZOFFSETFROM:+0100
TZOFFSETTO:+0000
DTSTART:19701025T020000
RRULE:FREQ=YEARLY;BYMONTH=10;BYDAY=-1SU
END:STANDARD
END:VTIMEZONE
BEGIN:VEVENT
DTSTART;TZID=Europe/London;VALUE=DATE:20251106
DTEND;TZID=Europe/London;VALUE=DATE:20251107
DTSTAMP:20260423T142324Z
UID:{AC9D898D-3885-499A-BCCDED0CC1D38B78}
LOCATION:Online
SUMMARY:FMSE guidance webinar for higher education professionals
DESCRIPTION:This free South West Grid for Learning event dives into the financially motivated sexual extortion guidance for higher education professionals.\n
 \n
 Event details: https://www.amosshe.org.uk/latest/event-calendar/fmse-guidance-webinar-for-higher-education-professionals.html
PRIORITY:1
END:VEVENT
END:VCALENDAR