BEGIN:VCALENDAR
PRODID:-//Pixl8//Eventfolio//EN
VERSION:2.0
X-WR-TIMEZONE:Europe/London
CALSCALE:GREGORIAN
METHOD:PUBLISH
CLASS:PUBLIC
BEGIN:VTIMEZONE
TZID:Europe/London
LAST-MODIFIED:20260306T231828Z
TZURL:https://www.tzurl.org/zoneinfo-outlook/Europe/London
X-LIC-LOCATION:Europe/London
BEGIN:DAYLIGHT
TZNAME:BST
TZOFFSETFROM:+0000
TZOFFSETTO:+0100
DTSTART:19700329T010000
RRULE:FREQ=YEARLY;BYMONTH=3;BYDAY=-1SU
END:DAYLIGHT
BEGIN:STANDARD
TZNAME:GMT
TZOFFSETFROM:+0100
TZOFFSETTO:+0000
DTSTART:19701025T020000
RRULE:FREQ=YEARLY;BYMONTH=10;BYDAY=-1SU
END:STANDARD
END:VTIMEZONE
BEGIN:VEVENT
DTSTART;TZID=Europe/London;VALUE=DATE:20260303
DTEND;TZID=Europe/London;VALUE=DATE:20260304
DTSTAMP:20260423T141753Z
UID:{E9FED8D1-E7AE-4591-B5333A129C6D1740}
LOCATION:Online
SUMMARY:Fostering students’ self-reliance using practical coaching skills
DESCRIPTION:This Plinth House event explores the positive impact staff can have when using practical coaching skills to empower students.\n
 \n
 Event details: https://www.amosshe.org.uk/latest/event-calendar/fostering-students-self-reliance-using-practical-coaching-skills.html
PRIORITY:1
END:VEVENT
END:VCALENDAR