BEGIN:VCALENDAR
PRODID:-//Pixl8//Eventfolio//EN
VERSION:2.0
X-WR-TIMEZONE:America/New_York
CALSCALE:GREGORIAN
METHOD:PUBLISH
CLASS:PUBLIC
BEGIN:VTIMEZONE
TZID:America/New_York
LAST-MODIFIED:20260306T231828Z
TZURL:https://www.tzurl.org/zoneinfo-outlook/America/New_York
X-LIC-LOCATION:America/New_York
BEGIN:DAYLIGHT
TZNAME:EDT
TZOFFSETFROM:-0500
TZOFFSETTO:-0400
DTSTART:19700308T020000
RRULE:FREQ=YEARLY;BYMONTH=3;BYDAY=2SU
END:DAYLIGHT
BEGIN:STANDARD
TZNAME:EST
TZOFFSETFROM:-0400
TZOFFSETTO:-0500
DTSTART:19701101T020000
RRULE:FREQ=YEARLY;BYMONTH=11;BYDAY=1SU
END:STANDARD
END:VTIMEZONE
BEGIN:VEVENT
DTSTART;TZID=America/New_York:20240806T130000
DTEND;TZID=America/New_York:20240806T143000
DTSTAMP:20260425T231548Z
UID:{A2EE6274-7D08-4820-B0D1A2BB17DE7BAB}
LOCATION:Virtual
SUMMARY:Fostering transfer success through diversity, equity, inclusion and belonging
DESCRIPTION:This US-based event explores the vital role of diversity, equity, inclusion and belonging principles in ensuring successful transfer processes across the higher education sector.\n
 \n
 Event details: https://www.amosshe.org.uk/latest/event-calendar/fostering-transfer-success-through-diversity-equity-inclusion-and-belonging.html
PRIORITY:1
END:VEVENT
END:VCALENDAR