BEGIN:VCALENDAR
PRODID:-//Pixl8//Eventfolio//EN
VERSION:2.0
X-WR-TIMEZONE:Europe/London
CALSCALE:GREGORIAN
METHOD:PUBLISH
CLASS:PUBLIC
BEGIN:VTIMEZONE
TZID:Europe/London
LAST-MODIFIED:20260306T231828Z
TZURL:https://www.tzurl.org/zoneinfo-outlook/Europe/London
X-LIC-LOCATION:Europe/London
BEGIN:DAYLIGHT
TZNAME:BST
TZOFFSETFROM:+0000
TZOFFSETTO:+0100
DTSTART:19700329T010000
RRULE:FREQ=YEARLY;BYMONTH=3;BYDAY=-1SU
END:DAYLIGHT
BEGIN:STANDARD
TZNAME:GMT
TZOFFSETFROM:+0100
TZOFFSETTO:+0000
DTSTART:19701025T020000
RRULE:FREQ=YEARLY;BYMONTH=10;BYDAY=-1SU
END:STANDARD
END:VTIMEZONE
BEGIN:VEVENT
DTSTART;TZID=Europe/London;VALUE=DATE:20250917
DTEND;TZID=Europe/London;VALUE=DATE:20250918
DTSTAMP:20260425T162739Z
UID:{6AD0DCDC-A508-446B-87C279D588C47402}
LOCATION:Online
SUMMARY:Getting started with TASO’s theory of change builder
DESCRIPTION:This free TASO (Transforming Access and Student Outcomes in Higher Education) event introduces the theory of change builder – an online tool designed to make developing and managing theories of change simpler and more consistent.\n
 \n
 Event details: https://www.amosshe.org.uk/latest/event-calendar/getting-started-with-taso-s-theory-of-change-builder.html
PRIORITY:1
END:VEVENT
END:VCALENDAR