BEGIN:VCALENDAR
PRODID:-//Pixl8//Eventfolio//EN
VERSION:2.0
X-WR-TIMEZONE:America/New_York
CALSCALE:GREGORIAN
METHOD:PUBLISH
CLASS:PUBLIC
BEGIN:VTIMEZONE
TZID:America/New_York
LAST-MODIFIED:20260306T231828Z
TZURL:https://www.tzurl.org/zoneinfo-outlook/America/New_York
X-LIC-LOCATION:America/New_York
BEGIN:DAYLIGHT
TZNAME:EDT
TZOFFSETFROM:-0500
TZOFFSETTO:-0400
DTSTART:19700308T020000
RRULE:FREQ=YEARLY;BYMONTH=3;BYDAY=2SU
END:DAYLIGHT
BEGIN:STANDARD
TZNAME:EST
TZOFFSETFROM:-0400
TZOFFSETTO:-0500
DTSTART:19701101T020000
RRULE:FREQ=YEARLY;BYMONTH=11;BYDAY=1SU
END:STANDARD
END:VTIMEZONE
BEGIN:VEVENT
DTSTART;TZID=America/New_York;VALUE=DATE:20250210
DTEND;TZID=America/New_York;VALUE=DATE:20250211
DTSTAMP:20260423T111401Z
UID:{BD2127CA-F0D0-40E8-992669E938E05D73}
LOCATION:Online
SUMMARY:Grant writing essentials for higher Ed
DESCRIPTION:This US-based PaperClip Communications event shares tips to turn ideas into funded projects.\n
 \n
 Event details: https://www.amosshe.org.uk/latest/event-calendar/grant-writing-essentials-for-higher-ed.html
PRIORITY:1
END:VEVENT
END:VCALENDAR