BEGIN:VCALENDAR
PRODID:-//Pixl8//Eventfolio//EN
VERSION:2.0
X-WR-TIMEZONE:Europe/London
CALSCALE:GREGORIAN
METHOD:PUBLISH
CLASS:PUBLIC
BEGIN:VTIMEZONE
TZID:Europe/London
LAST-MODIFIED:20260306T231828Z
TZURL:https://www.tzurl.org/zoneinfo-outlook/Europe/London
X-LIC-LOCATION:Europe/London
BEGIN:DAYLIGHT
TZNAME:BST
TZOFFSETFROM:+0000
TZOFFSETTO:+0100
DTSTART:19700329T010000
RRULE:FREQ=YEARLY;BYMONTH=3;BYDAY=-1SU
END:DAYLIGHT
BEGIN:STANDARD
TZNAME:GMT
TZOFFSETFROM:+0100
TZOFFSETTO:+0000
DTSTART:19701025T020000
RRULE:FREQ=YEARLY;BYMONTH=10;BYDAY=-1SU
END:STANDARD
END:VTIMEZONE
BEGIN:VEVENT
DTSTART;TZID=Europe/London:20250429T091000
DTEND;TZID=Europe/London:20250429T155000
DTSTAMP:20260423T141542Z
UID:{F947EF09-6F3C-41F5-A2C52334650EAB7E}
LOCATION:Online
SUMMARY:HE shared services and structural collaboration conference
DESCRIPTION:This HE Professional event explores the next steps in unlocking the opportunities of shared services and structural collaboration as the higher education sector looks towards long-term business transformation.\n
 \n
 Event details: https://www.amosshe.org.uk/latest/event-calendar/he-shared-services-and-structural-collaboration-conference.html
PRIORITY:1
END:VEVENT
END:VCALENDAR