BEGIN:VCALENDAR
PRODID:-//Pixl8//Eventfolio//EN
VERSION:2.0
X-WR-TIMEZONE:Europe/London
CALSCALE:GREGORIAN
METHOD:PUBLISH
CLASS:PUBLIC
BEGIN:VTIMEZONE
TZID:Europe/London
LAST-MODIFIED:20260306T231828Z
TZURL:https://www.tzurl.org/zoneinfo-outlook/Europe/London
X-LIC-LOCATION:Europe/London
BEGIN:DAYLIGHT
TZNAME:BST
TZOFFSETFROM:+0000
TZOFFSETTO:+0100
DTSTART:19700329T010000
RRULE:FREQ=YEARLY;BYMONTH=3;BYDAY=-1SU
END:DAYLIGHT
BEGIN:STANDARD
TZNAME:GMT
TZOFFSETFROM:+0100
TZOFFSETTO:+0000
DTSTART:19701025T020000
RRULE:FREQ=YEARLY;BYMONTH=10;BYDAY=-1SU
END:STANDARD
END:VTIMEZONE
BEGIN:VEVENT
DTSTART;TZID=Europe/London;VALUE=DATE:20241204
DTEND;TZID=Europe/London;VALUE=DATE:20241207
DTSTAMP:20260425T190017Z
UID:{5AC75FE1-C5D1-4159-9146A09E101DBFBD}
LOCATION:Nottingham\, United Kingdom
SUMMARY:Higher education: a place for activism and resistance?
DESCRIPTION:This SRHE (Society for Research into Higher Education) event explores the ways in which staff and students are, and have historically been, involved in various forms of activism and ask questions about the future roles of higher education.\n
 \n
 Event details: https://www.amosshe.org.uk/latest/event-calendar/higher-education-a-place-for-activism-and-resistance-1.html
PRIORITY:1
END:VEVENT
END:VCALENDAR