BEGIN:VCALENDAR
PRODID:-//Pixl8//Eventfolio//EN
VERSION:2.0
X-WR-TIMEZONE:Europe/London
CALSCALE:GREGORIAN
METHOD:PUBLISH
CLASS:PUBLIC
BEGIN:VTIMEZONE
TZID:Europe/London
LAST-MODIFIED:20260306T231828Z
TZURL:https://www.tzurl.org/zoneinfo-outlook/Europe/London
X-LIC-LOCATION:Europe/London
BEGIN:DAYLIGHT
TZNAME:BST
TZOFFSETFROM:+0000
TZOFFSETTO:+0100
DTSTART:19700329T010000
RRULE:FREQ=YEARLY;BYMONTH=3;BYDAY=-1SU
END:DAYLIGHT
BEGIN:STANDARD
TZNAME:GMT
TZOFFSETFROM:+0100
TZOFFSETTO:+0000
DTSTART:19701025T020000
RRULE:FREQ=YEARLY;BYMONTH=10;BYDAY=-1SU
END:STANDARD
END:VTIMEZONE
BEGIN:VEVENT
DTSTART;TZID=Europe/London;VALUE=DATE:20251211
DTEND;TZID=Europe/London;VALUE=DATE:20251212
DTSTAMP:20260423T115014Z
UID:{3CBEF6F3-309B-4C3D-AC2C24E7F9AC2CD5}
LOCATION:Online
SUMMARY:How can student governors have maximum impact? 
DESCRIPTION:This free HEPI (Higher Education Policy Institute) event discusses how universities can strengthen the student voice in governance.\n
 \n
 Event details: https://www.amosshe.org.uk/latest/event-calendar/how-can-student-governors-have-maximum-impact.html
PRIORITY:1
END:VEVENT
END:VCALENDAR