BEGIN:VCALENDAR
PRODID:-//Pixl8//Eventfolio//EN
VERSION:2.0
X-WR-TIMEZONE:Europe/London
CALSCALE:GREGORIAN
METHOD:PUBLISH
CLASS:PUBLIC
BEGIN:VTIMEZONE
TZID:Europe/London
LAST-MODIFIED:20260306T231828Z
TZURL:https://www.tzurl.org/zoneinfo-outlook/Europe/London
X-LIC-LOCATION:Europe/London
BEGIN:DAYLIGHT
TZNAME:BST
TZOFFSETFROM:+0000
TZOFFSETTO:+0100
DTSTART:19700329T010000
RRULE:FREQ=YEARLY;BYMONTH=3;BYDAY=-1SU
END:DAYLIGHT
BEGIN:STANDARD
TZNAME:GMT
TZOFFSETFROM:+0100
TZOFFSETTO:+0000
DTSTART:19701025T020000
RRULE:FREQ=YEARLY;BYMONTH=10;BYDAY=-1SU
END:STANDARD
END:VTIMEZONE
BEGIN:VEVENT
DTSTART;TZID=Europe/London:20241212T130000
DTEND;TZID=Europe/London:20241212T143000
DTSTAMP:20260423T162101Z
UID:{26754ECC-30C5-44BF-A79440927F625882}
LOCATION:Online
SUMMARY:How to begin your own accessibility testing
DESCRIPTION:This AbilityNet event explores how to use manual and automated accessibility testing tools, and about testing with disabled users.\n
 \n
 Event details: https://www.amosshe.org.uk/latest/event-calendar/how-to-begin-your-own-accessibility-testing.html
PRIORITY:1
END:VEVENT
END:VCALENDAR