BEGIN:VCALENDAR
PRODID:-//Pixl8//Eventfolio//EN
VERSION:2.0
X-WR-TIMEZONE:Europe/London
CALSCALE:GREGORIAN
METHOD:PUBLISH
CLASS:PUBLIC
BEGIN:VTIMEZONE
TZID:Europe/London
LAST-MODIFIED:20260306T231828Z
TZURL:https://www.tzurl.org/zoneinfo-outlook/Europe/London
X-LIC-LOCATION:Europe/London
BEGIN:DAYLIGHT
TZNAME:BST
TZOFFSETFROM:+0000
TZOFFSETTO:+0100
DTSTART:19700329T010000
RRULE:FREQ=YEARLY;BYMONTH=3;BYDAY=-1SU
END:DAYLIGHT
BEGIN:STANDARD
TZNAME:GMT
TZOFFSETFROM:+0100
TZOFFSETTO:+0000
DTSTART:19701025T020000
RRULE:FREQ=YEARLY;BYMONTH=10;BYDAY=-1SU
END:STANDARD
END:VTIMEZONE
BEGIN:VEVENT
DTSTART;TZID=Europe/London;VALUE=DATE:20250128
DTEND;TZID=Europe/London;VALUE=DATE:20250129
DTSTAMP:20260425T161639Z
UID:{B86C0EB6-9440-4690-AC5DCA75F3F07FE1}
LOCATION:London\, United Kingdom
SUMMARY:How to boost public perception of higher education' taking place
DESCRIPTION:This free Times Higher Education event discusses how universities can improve public understanding of the value and benefits higher education brings to society as a whole.\n
 \n
 Event details: https://www.amosshe.org.uk/latest/event-calendar/how-to-boost-public-perception-of-higher-education-taking-place.html
PRIORITY:1
END:VEVENT
END:VCALENDAR