BEGIN:VCALENDAR
PRODID:-//Pixl8//Eventfolio//EN
VERSION:2.0
X-WR-TIMEZONE:Europe/London
CALSCALE:GREGORIAN
METHOD:PUBLISH
CLASS:PUBLIC
BEGIN:VTIMEZONE
TZID:Europe/London
LAST-MODIFIED:20260306T231828Z
TZURL:https://www.tzurl.org/zoneinfo-outlook/Europe/London
X-LIC-LOCATION:Europe/London
BEGIN:DAYLIGHT
TZNAME:BST
TZOFFSETFROM:+0000
TZOFFSETTO:+0100
DTSTART:19700329T010000
RRULE:FREQ=YEARLY;BYMONTH=3;BYDAY=-1SU
END:DAYLIGHT
BEGIN:STANDARD
TZNAME:GMT
TZOFFSETFROM:+0100
TZOFFSETTO:+0000
DTSTART:19701025T020000
RRULE:FREQ=YEARLY;BYMONTH=10;BYDAY=-1SU
END:STANDARD
END:VTIMEZONE
BEGIN:VEVENT
DTSTART;TZID=Europe/London:20250717T130000
DTEND;TZID=Europe/London:20250717T134500
DTSTAMP:20260423T161933Z
UID:{9E38B0AC-4985-4B46-A6D173412A53FEB2}
LOCATION:Online
SUMMARY:How to build a disability inclusive workplace
DESCRIPTION:This AbilityNet webinar helps you recognise the advantages of proactively designing inclusivity into your working practices.\n
 \n
 Event details: https://www.amosshe.org.uk/latest/event-calendar/how-to-build-a-disability-inclusive-workplace.html
PRIORITY:1
END:VEVENT
END:VCALENDAR