BEGIN:VCALENDAR
PRODID:-//Pixl8//Eventfolio//EN
VERSION:2.0
X-WR-TIMEZONE:Europe/London
CALSCALE:GREGORIAN
METHOD:PUBLISH
CLASS:PUBLIC
BEGIN:VTIMEZONE
TZID:Europe/London
LAST-MODIFIED:20260306T231828Z
TZURL:https://www.tzurl.org/zoneinfo-outlook/Europe/London
X-LIC-LOCATION:Europe/London
BEGIN:DAYLIGHT
TZNAME:BST
TZOFFSETFROM:+0000
TZOFFSETTO:+0100
DTSTART:19700329T010000
RRULE:FREQ=YEARLY;BYMONTH=3;BYDAY=-1SU
END:DAYLIGHT
BEGIN:STANDARD
TZNAME:GMT
TZOFFSETFROM:+0100
TZOFFSETTO:+0000
DTSTART:19701025T020000
RRULE:FREQ=YEARLY;BYMONTH=10;BYDAY=-1SU
END:STANDARD
END:VTIMEZONE
BEGIN:VEVENT
DTSTART;TZID=Europe/London;VALUE=DATE:20250210
DTEND;TZID=Europe/London;VALUE=DATE:20250211
DTSTAMP:20260423T110824Z
UID:{B2CBE679-68C3-47D0-BB781F5E6E95CCB0}
LOCATION:Online
SUMMARY:How to deal with difficult conversations
DESCRIPTION:This Healthcare Conferences UK provides strategies and techniques to raise self-awareness and open up conversations around mental health and wellbeing and how important it is for everyone to put their own self-care back in the frame.\n
 \n
 Event details: https://www.amosshe.org.uk/latest/event-calendar/how-to-deal-with-difficult-conversations-1.html
PRIORITY:1
END:VEVENT
END:VCALENDAR