BEGIN:VCALENDAR
PRODID:-//Pixl8//Eventfolio//EN
VERSION:2.0
X-WR-TIMEZONE:Europe/London
CALSCALE:GREGORIAN
METHOD:PUBLISH
CLASS:PUBLIC
BEGIN:VTIMEZONE
TZID:Europe/London
LAST-MODIFIED:20260306T231828Z
TZURL:https://www.tzurl.org/zoneinfo-outlook/Europe/London
X-LIC-LOCATION:Europe/London
BEGIN:DAYLIGHT
TZNAME:BST
TZOFFSETFROM:+0000
TZOFFSETTO:+0100
DTSTART:19700329T010000
RRULE:FREQ=YEARLY;BYMONTH=3;BYDAY=-1SU
END:DAYLIGHT
BEGIN:STANDARD
TZNAME:GMT
TZOFFSETFROM:+0100
TZOFFSETTO:+0000
DTSTART:19701025T020000
RRULE:FREQ=YEARLY;BYMONTH=10;BYDAY=-1SU
END:STANDARD
END:VTIMEZONE
BEGIN:VEVENT
DTSTART;TZID=Europe/London;VALUE=DATE:20241017
DTEND;TZID=Europe/London;VALUE=DATE:20241018
DTSTAMP:20260423T110942Z
UID:{BC03580C-947B-439E-9574CC582E9D116D}
LOCATION:Online
SUMMARY:How to influence and persuade people at work
DESCRIPTION:This GovPD event builds on the twin themes of making it easy for people to say yes and hard to say no. You’ll discover ways to structure your meetings to uncover the unspoken expectations of other people which can surface later to trip you up.\n
 \n
 Event details: https://www.amosshe.org.uk/latest/event-calendar/how-to-influence-and-persuade-people-at-work.html
PRIORITY:1
END:VEVENT
END:VCALENDAR