BEGIN:VCALENDAR
PRODID:-//Pixl8//Eventfolio//EN
VERSION:2.0
X-WR-TIMEZONE:Europe/London
CALSCALE:GREGORIAN
METHOD:PUBLISH
CLASS:PUBLIC
BEGIN:VTIMEZONE
TZID:Europe/London
LAST-MODIFIED:20260306T231828Z
TZURL:https://www.tzurl.org/zoneinfo-outlook/Europe/London
X-LIC-LOCATION:Europe/London
BEGIN:DAYLIGHT
TZNAME:BST
TZOFFSETFROM:+0000
TZOFFSETTO:+0100
DTSTART:19700329T010000
RRULE:FREQ=YEARLY;BYMONTH=3;BYDAY=-1SU
END:DAYLIGHT
BEGIN:STANDARD
TZNAME:GMT
TZOFFSETFROM:+0100
TZOFFSETTO:+0000
DTSTART:19701025T020000
RRULE:FREQ=YEARLY;BYMONTH=10;BYDAY=-1SU
END:STANDARD
END:VTIMEZONE
BEGIN:VEVENT
DTSTART;TZID=Europe/London;VALUE=DATE:20260414
DTEND;TZID=Europe/London;VALUE=DATE:20260415
DTSTAMP:20260423T161804Z
UID:{12A89084-D344-4436-82D7898A3BCB79F5}
LOCATION:Online
SUMMARY:How to influence and persuade people at work
DESCRIPTION:This MyPD event provides you with different influencing styles to learn how they may apply to your own situations at work.\n
 \n
 Event details: https://www.amosshe.org.uk/latest/event-calendar/how-to-influence-and-persuade-people-at-work-6.html
PRIORITY:1
END:VEVENT
END:VCALENDAR