BEGIN:VCALENDAR
PRODID:-//Pixl8//Eventfolio//EN
VERSION:2.0
X-WR-TIMEZONE:America/Toronto
CALSCALE:GREGORIAN
METHOD:PUBLISH
CLASS:PUBLIC
BEGIN:VTIMEZONE
TZID:America/Toronto
LAST-MODIFIED:20260306T231828Z
TZURL:https://www.tzurl.org/zoneinfo-outlook/America/Toronto
X-LIC-LOCATION:America/Toronto
BEGIN:DAYLIGHT
TZNAME:EDT
TZOFFSETFROM:-0500
TZOFFSETTO:-0400
DTSTART:19700308T020000
RRULE:FREQ=YEARLY;BYMONTH=3;BYDAY=2SU
END:DAYLIGHT
BEGIN:STANDARD
TZNAME:EST
TZOFFSETFROM:-0400
TZOFFSETTO:-0500
DTSTART:19701101T020000
RRULE:FREQ=YEARLY;BYMONTH=11;BYDAY=1SU
END:STANDARD
END:VTIMEZONE
BEGIN:VEVENT
DTSTART;TZID=America/Toronto;VALUE=DATE:20261027
DTEND;TZID=America/Toronto;VALUE=DATE:20261031
DTSTAMP:20260423T212802Z
UID:{78E7FBBA-B3FD-4A7C-BE4724058D711559}
LOCATION:Toronto\, Canada
SUMMARY:IASAS Global Summit 2026
DESCRIPTION:This Belgian-based IASAS (International Association Student Affairs Services) event brings together Student Affairs leaders from across the globe to engage in strategic dialogue on key issues in Student Affairs and higher education.\n
 \n
 Event details: https://www.amosshe.org.uk/latest/event-calendar/iasas-global-summit-2026.html
PRIORITY:1
END:VEVENT
END:VCALENDAR