BEGIN:VCALENDAR
PRODID:-//Pixl8//Eventfolio//EN
VERSION:2.0
X-WR-TIMEZONE:Europe/Dublin
CALSCALE:GREGORIAN
METHOD:PUBLISH
CLASS:PUBLIC
BEGIN:VTIMEZONE
TZID:Europe/Dublin
LAST-MODIFIED:20260306T231828Z
TZURL:https://www.tzurl.org/zoneinfo-outlook/Europe/Dublin
X-LIC-LOCATION:Europe/Dublin
BEGIN:DAYLIGHT
TZNAME:IST
TZOFFSETFROM:+0000
TZOFFSETTO:+0100
DTSTART:19700329T010000
RRULE:FREQ=YEARLY;BYMONTH=3;BYDAY=-1SU
END:DAYLIGHT
BEGIN:STANDARD
TZNAME:GMT
TZOFFSETFROM:+0100
TZOFFSETTO:+0000
DTSTART:19701025T020000
RRULE:FREQ=YEARLY;BYMONTH=10;BYDAY=-1SU
END:STANDARD
END:VTIMEZONE
BEGIN:VEVENT
DTSTART;TZID=Europe/Dublin;VALUE=DATE:20250616
DTEND;TZID=Europe/Dublin;VALUE=DATE:20250620
DTSTAMP:20260425T172342Z
UID:{F11E4607-EBA0-49A1-A588AC3F7A61764D}
LOCATION:Limerick\, Republic of Ireland
SUMMARY:IHPC Conference 2025
DESCRIPTION:This IHPC (International Health Promoting Campuses) conference discusses the need for necessary advancements, including collaboration, innovation, and evaluation of health-promoting activities to ensure you have healthy students on your campus.\n
 \n
 Event details: https://www.amosshe.org.uk/latest/event-calendar/ihpc-conference-2025.html
PRIORITY:1
END:VEVENT
END:VCALENDAR