BEGIN:VCALENDAR
PRODID:-//Pixl8//Eventfolio//EN
VERSION:2.0
X-WR-TIMEZONE:Europe/London
CALSCALE:GREGORIAN
METHOD:PUBLISH
CLASS:PUBLIC
BEGIN:VTIMEZONE
TZID:Europe/London
LAST-MODIFIED:20260306T231828Z
TZURL:https://www.tzurl.org/zoneinfo-outlook/Europe/London
X-LIC-LOCATION:Europe/London
BEGIN:DAYLIGHT
TZNAME:BST
TZOFFSETFROM:+0000
TZOFFSETTO:+0100
DTSTART:19700329T010000
RRULE:FREQ=YEARLY;BYMONTH=3;BYDAY=-1SU
END:DAYLIGHT
BEGIN:STANDARD
TZNAME:GMT
TZOFFSETFROM:+0100
TZOFFSETTO:+0000
DTSTART:19701025T020000
RRULE:FREQ=YEARLY;BYMONTH=10;BYDAY=-1SU
END:STANDARD
END:VTIMEZONE
BEGIN:VEVENT
DTSTART;TZID=Europe/London;VALUE=DATE:20250423
DTEND;TZID=Europe/London;VALUE=DATE:20250424
DTSTAMP:20260425T173043Z
UID:{068C4F7E-E3AA-48C9-BE2CC3F2B4BD6D34}
LOCATION:Online
SUMMARY:Improving access to resources and help for those in crisis
DESCRIPTION:This PDG (Professional Development Group) event shares insights and learnings from experience in suicide prevention and crisis prevention.\n
 \n
 Event details: https://www.amosshe.org.uk/latest/event-calendar/improving-access-to-resources-and-help-for-those-in-crisis.html
PRIORITY:1
END:VEVENT
END:VCALENDAR