BEGIN:VCALENDAR
PRODID:-//Pixl8//Eventfolio//EN
VERSION:2.0
X-WR-TIMEZONE:Europe/London
CALSCALE:GREGORIAN
METHOD:PUBLISH
CLASS:PUBLIC
BEGIN:VTIMEZONE
TZID:Europe/London
LAST-MODIFIED:20260306T231828Z
TZURL:https://www.tzurl.org/zoneinfo-outlook/Europe/London
X-LIC-LOCATION:Europe/London
BEGIN:DAYLIGHT
TZNAME:BST
TZOFFSETFROM:+0000
TZOFFSETTO:+0100
DTSTART:19700329T010000
RRULE:FREQ=YEARLY;BYMONTH=3;BYDAY=-1SU
END:DAYLIGHT
BEGIN:STANDARD
TZNAME:GMT
TZOFFSETFROM:+0100
TZOFFSETTO:+0000
DTSTART:19701025T020000
RRULE:FREQ=YEARLY;BYMONTH=10;BYDAY=-1SU
END:STANDARD
END:VTIMEZONE
BEGIN:VEVENT
DTSTART;TZID=Europe/London;VALUE=DATE:20250129
DTEND;TZID=Europe/London;VALUE=DATE:20250130
DTSTAMP:20260425T173039Z
UID:{82B80236-8174-4717-9C261134C5480482}
LOCATION:Online
SUMMARY:Improving support in academic departments for autistic students
DESCRIPTION:This International Network of Inclusive Practice event explores how academic departments can better support autistic students by sharing insights, best practice and resources.\n
 \n
 Event details: https://www.amosshe.org.uk/latest/event-calendar/improving-support-in-academic-departments-for-autistic-students.html
PRIORITY:1
END:VEVENT
END:VCALENDAR