BEGIN:VCALENDAR
PRODID:-//Pixl8//Eventfolio//EN
VERSION:2.0
X-WR-TIMEZONE:Europe/London
CALSCALE:GREGORIAN
METHOD:PUBLISH
CLASS:PUBLIC
BEGIN:VTIMEZONE
TZID:Europe/London
LAST-MODIFIED:20260306T231828Z
TZURL:https://www.tzurl.org/zoneinfo-outlook/Europe/London
X-LIC-LOCATION:Europe/London
BEGIN:DAYLIGHT
TZNAME:BST
TZOFFSETFROM:+0000
TZOFFSETTO:+0100
DTSTART:19700329T010000
RRULE:FREQ=YEARLY;BYMONTH=3;BYDAY=-1SU
END:DAYLIGHT
BEGIN:STANDARD
TZNAME:GMT
TZOFFSETFROM:+0100
TZOFFSETTO:+0000
DTSTART:19701025T020000
RRULE:FREQ=YEARLY;BYMONTH=10;BYDAY=-1SU
END:STANDARD
END:VTIMEZONE
BEGIN:VEVENT
DTSTART;TZID=Europe/London:20241120T130000
DTEND;TZID=Europe/London:20241120T134500
DTSTAMP:20260425T172942Z
UID:{8DC5A182-9724-4315-8DA12D70957F72A1}
LOCATION:Online
SUMMARY:Introduction to AI for older people
DESCRIPTION:This AbilityNet event outlines the benefits of and things to remember about artificial intelligence (AI).\n
 \n
 Event details: https://www.amosshe.org.uk/latest/event-calendar/introduction-to-ai-for-older-people.html
PRIORITY:1
END:VEVENT
END:VCALENDAR