BEGIN:VCALENDAR
PRODID:-//Pixl8//Eventfolio//EN
VERSION:2.0
X-WR-TIMEZONE:Europe/London
CALSCALE:GREGORIAN
METHOD:PUBLISH
CLASS:PUBLIC
BEGIN:VTIMEZONE
TZID:Europe/London
LAST-MODIFIED:20260306T231828Z
TZURL:https://www.tzurl.org/zoneinfo-outlook/Europe/London
X-LIC-LOCATION:Europe/London
BEGIN:DAYLIGHT
TZNAME:BST
TZOFFSETFROM:+0000
TZOFFSETTO:+0100
DTSTART:19700329T010000
RRULE:FREQ=YEARLY;BYMONTH=3;BYDAY=-1SU
END:DAYLIGHT
BEGIN:STANDARD
TZNAME:GMT
TZOFFSETFROM:+0100
TZOFFSETTO:+0000
DTSTART:19701025T020000
RRULE:FREQ=YEARLY;BYMONTH=10;BYDAY=-1SU
END:STANDARD
END:VTIMEZONE
BEGIN:VEVENT
DTSTART;TZID=Europe/London:20250417T130000
DTEND;TZID=Europe/London:20250417T143000
DTSTAMP:20260423T105453Z
UID:{5755FBA8-54A0-4439-9F564FE06231E42B}
LOCATION:Online
SUMMARY:Introduction to digital accessibility
DESCRIPTION:This AbilityNet webinar helps you understand the basics of digital accessibility to see what changes you need to make.\n
 \n
 Event details: https://www.amosshe.org.uk/latest/event-calendar/introduction-to-digital-accessibility.html
PRIORITY:1
END:VEVENT
END:VCALENDAR