BEGIN:VCALENDAR
PRODID:-//Pixl8//Eventfolio//EN
VERSION:2.0
X-WR-TIMEZONE:Europe/London
CALSCALE:GREGORIAN
METHOD:PUBLISH
CLASS:PUBLIC
BEGIN:VTIMEZONE
TZID:Europe/London
LAST-MODIFIED:20260306T231828Z
TZURL:https://www.tzurl.org/zoneinfo-outlook/Europe/London
X-LIC-LOCATION:Europe/London
BEGIN:DAYLIGHT
TZNAME:BST
TZOFFSETFROM:+0000
TZOFFSETTO:+0100
DTSTART:19700329T010000
RRULE:FREQ=YEARLY;BYMONTH=3;BYDAY=-1SU
END:DAYLIGHT
BEGIN:STANDARD
TZNAME:GMT
TZOFFSETFROM:+0100
TZOFFSETTO:+0000
DTSTART:19701025T020000
RRULE:FREQ=YEARLY;BYMONTH=10;BYDAY=-1SU
END:STANDARD
END:VTIMEZONE
BEGIN:VEVENT
DTSTART;TZID=Europe/London:20250623T091500
DTEND;TZID=Europe/London:20250623T131500
DTSTAMP:20260425T195936Z
UID:{FC29C450-6946-4F03-92BC027ECE9C8BF3}
LOCATION:Online
SUMMARY:Ketamine: risks, rewards and safety
DESCRIPTION:This Drugs Training event explores the changing demographics of Ketamine use, key risks to physical health and recent developments in using the drug for the treatment of depression.\n
 \n
 Event details: https://www.amosshe.org.uk/latest/event-calendar/ketamine-risks-rewards-and-safety-23-june-2025.html
PRIORITY:1
END:VEVENT
END:VCALENDAR