BEGIN:VCALENDAR
PRODID:-//Pixl8//Eventfolio//EN
VERSION:2.0
X-WR-TIMEZONE:Europe/London
CALSCALE:GREGORIAN
METHOD:PUBLISH
CLASS:PUBLIC
BEGIN:VTIMEZONE
TZID:Europe/London
LAST-MODIFIED:20260306T231828Z
TZURL:https://www.tzurl.org/zoneinfo-outlook/Europe/London
X-LIC-LOCATION:Europe/London
BEGIN:DAYLIGHT
TZNAME:BST
TZOFFSETFROM:+0000
TZOFFSETTO:+0100
DTSTART:19700329T010000
RRULE:FREQ=YEARLY;BYMONTH=3;BYDAY=-1SU
END:DAYLIGHT
BEGIN:STANDARD
TZNAME:GMT
TZOFFSETFROM:+0100
TZOFFSETTO:+0000
DTSTART:19701025T020000
RRULE:FREQ=YEARLY;BYMONTH=10;BYDAY=-1SU
END:STANDARD
END:VTIMEZONE
BEGIN:VEVENT
DTSTART;TZID=Europe/London;VALUE=DATE:20260107
DTEND;TZID=Europe/London;VALUE=DATE:20260108
DTSTAMP:20260423T111534Z
UID:{FCA77F06-5971-4038-844597A04A8282A3}
LOCATION:Online
SUMMARY:Leadership essentials for managers
DESCRIPTION:This MyPD event dives into key leadership principles, from adapting your leadership style to fit team dynamics to mastering communication, conflict resolution, and decision-making.\n
 \n
 Event details: https://www.amosshe.org.uk/latest/event-calendar/leadership-essentials-for-managers-1.html
PRIORITY:1
END:VEVENT
END:VCALENDAR