BEGIN:VCALENDAR
PRODID:-//Pixl8//Eventfolio//EN
VERSION:2.0
X-WR-TIMEZONE:Europe/London
CALSCALE:GREGORIAN
METHOD:PUBLISH
CLASS:PUBLIC
BEGIN:VTIMEZONE
TZID:Europe/London
LAST-MODIFIED:20260306T231828Z
TZURL:https://www.tzurl.org/zoneinfo-outlook/Europe/London
X-LIC-LOCATION:Europe/London
BEGIN:DAYLIGHT
TZNAME:BST
TZOFFSETFROM:+0000
TZOFFSETTO:+0100
DTSTART:19700329T010000
RRULE:FREQ=YEARLY;BYMONTH=3;BYDAY=-1SU
END:DAYLIGHT
BEGIN:STANDARD
TZNAME:GMT
TZOFFSETFROM:+0100
TZOFFSETTO:+0000
DTSTART:19701025T020000
RRULE:FREQ=YEARLY;BYMONTH=10;BYDAY=-1SU
END:STANDARD
END:VTIMEZONE
BEGIN:VEVENT
DTSTART;TZID=Europe/London:20241213T110000
DTEND;TZID=Europe/London:20241213T130000
DTSTAMP:20260425T173232Z
UID:{C4F9E0B4-D0B0-43A8-A0796D997910A2CB}
LOCATION:Online
SUMMARY:Leadership in student support and student success in higher education
DESCRIPTION:This UMO event addresses the competencies required to function, thrive and lead in the current context of higher education.\n
 \n
 Event details: https://www.amosshe.org.uk/latest/event-calendar/leadership-in-student-support-and-student-success-in-higher-education.html
PRIORITY:1
END:VEVENT
END:VCALENDAR