BEGIN:VCALENDAR
PRODID:-//Pixl8//Eventfolio//EN
VERSION:2.0
X-WR-TIMEZONE:Europe/London
CALSCALE:GREGORIAN
METHOD:PUBLISH
CLASS:PUBLIC
BEGIN:VTIMEZONE
TZID:Europe/London
LAST-MODIFIED:20260306T231828Z
TZURL:https://www.tzurl.org/zoneinfo-outlook/Europe/London
X-LIC-LOCATION:Europe/London
BEGIN:DAYLIGHT
TZNAME:BST
TZOFFSETFROM:+0000
TZOFFSETTO:+0100
DTSTART:19700329T010000
RRULE:FREQ=YEARLY;BYMONTH=3;BYDAY=-1SU
END:DAYLIGHT
BEGIN:STANDARD
TZNAME:GMT
TZOFFSETFROM:+0100
TZOFFSETTO:+0000
DTSTART:19701025T020000
RRULE:FREQ=YEARLY;BYMONTH=10;BYDAY=-1SU
END:STANDARD
END:VTIMEZONE
BEGIN:VEVENT
DTSTART;TZID=Europe/London:20240917T092500
DTEND;TZID=Europe/London:20240917T161500
DTSTAMP:20260423T110630Z
UID:{0F08FC3E-BBBE-435A-9A64EFE4AE359BA2}
LOCATION:Virtual
SUMMARY:Leadership skills for emerging managers
DESCRIPTION:This Understanding ModernGov event shares how to motivate your team, handle challenging conversations, give feedback and manage performance effectively.\n
 \n
 Event details: https://www.amosshe.org.uk/latest/event-calendar/leadership-skills-for-emerging-managers.html
PRIORITY:1
END:VEVENT
END:VCALENDAR