BEGIN:VCALENDAR
PRODID:-//Pixl8//Eventfolio//EN
VERSION:2.0
X-WR-TIMEZONE:America/New_York
CALSCALE:GREGORIAN
METHOD:PUBLISH
CLASS:PUBLIC
BEGIN:VTIMEZONE
TZID:America/New_York
LAST-MODIFIED:20260306T231828Z
TZURL:https://www.tzurl.org/zoneinfo-outlook/America/New_York
X-LIC-LOCATION:America/New_York
BEGIN:DAYLIGHT
TZNAME:EDT
TZOFFSETFROM:-0500
TZOFFSETTO:-0400
DTSTART:19700308T020000
RRULE:FREQ=YEARLY;BYMONTH=3;BYDAY=2SU
END:DAYLIGHT
BEGIN:STANDARD
TZNAME:EST
TZOFFSETFROM:-0400
TZOFFSETTO:-0500
DTSTART:19701101T020000
RRULE:FREQ=YEARLY;BYMONTH=11;BYDAY=1SU
END:STANDARD
END:VTIMEZONE
BEGIN:VEVENT
DTSTART;TZID=America/New_York:20241015T150000
DTEND;TZID=America/New_York:20241015T160000
DTSTAMP:20260425T163356Z
UID:{0CD9C25A-2E62-4E0B-8E9BEA0F8CB9D9B0}
LOCATION:Online
SUMMARY:Leading through change: crisis management & resilience in higher education
DESCRIPTION:This US-based Innovative Educators event provides practical strategies and helps you develop strong crisis management skills.\n
 \n
 Event details: https://www.amosshe.org.uk/latest/event-calendar/leading-through-change-crisis-management-resilience-in-higher-education.html
PRIORITY:1
END:VEVENT
END:VCALENDAR