BEGIN:VCALENDAR
PRODID:-//Pixl8//Eventfolio//EN
VERSION:2.0
X-WR-TIMEZONE:Europe/London
CALSCALE:GREGORIAN
METHOD:PUBLISH
CLASS:PUBLIC
BEGIN:VTIMEZONE
TZID:Europe/London
LAST-MODIFIED:20260306T231828Z
TZURL:https://www.tzurl.org/zoneinfo-outlook/Europe/London
X-LIC-LOCATION:Europe/London
BEGIN:DAYLIGHT
TZNAME:BST
TZOFFSETFROM:+0000
TZOFFSETTO:+0100
DTSTART:19700329T010000
RRULE:FREQ=YEARLY;BYMONTH=3;BYDAY=-1SU
END:DAYLIGHT
BEGIN:STANDARD
TZNAME:GMT
TZOFFSETFROM:+0100
TZOFFSETTO:+0000
DTSTART:19701025T020000
RRULE:FREQ=YEARLY;BYMONTH=10;BYDAY=-1SU
END:STANDARD
END:VTIMEZONE
BEGIN:VEVENT
DTSTART;TZID=Europe/London;VALUE=DATE:20250521
DTEND;TZID=Europe/London;VALUE=DATE:20250522
DTSTAMP:20260423T110426Z
UID:{FDE6AEA4-DF36-4CAF-93AF60B85772337F}
LOCATION:Online
SUMMARY:Leading with impact and purpose
DESCRIPTION:This Civil Service College event addresses modern leadership thinking, offering a participative exploration of leadership excellence in today's highly connected and fast-paced world, with an emphasis on the practical elements of great leadership.\n
 \n
 Event details: https://www.amosshe.org.uk/latest/event-calendar/leading-with-impact-and-purpose-2.html
PRIORITY:1
END:VEVENT
END:VCALENDAR