BEGIN:VCALENDAR
PRODID:-//Pixl8//Eventfolio//EN
VERSION:2.0
X-WR-TIMEZONE:Europe/London
CALSCALE:GREGORIAN
METHOD:PUBLISH
CLASS:PUBLIC
BEGIN:VTIMEZONE
TZID:Europe/London
LAST-MODIFIED:20260306T231828Z
TZURL:https://www.tzurl.org/zoneinfo-outlook/Europe/London
X-LIC-LOCATION:Europe/London
BEGIN:DAYLIGHT
TZNAME:BST
TZOFFSETFROM:+0000
TZOFFSETTO:+0100
DTSTART:19700329T010000
RRULE:FREQ=YEARLY;BYMONTH=3;BYDAY=-1SU
END:DAYLIGHT
BEGIN:STANDARD
TZNAME:GMT
TZOFFSETFROM:+0100
TZOFFSETTO:+0000
DTSTART:19701025T020000
RRULE:FREQ=YEARLY;BYMONTH=10;BYDAY=-1SU
END:STANDARD
END:VTIMEZONE
BEGIN:VEVENT
DTSTART;TZID=Europe/London:20241114T080000
DTEND;TZID=Europe/London:20241128T091500
DTSTAMP:20260423T141428Z
UID:{924313EE-4796-4786-913BAAD233FD78BF}
LOCATION:Online
SUMMARY:Living true workshop series
DESCRIPTION:This Living True series of events over three weeks combines cognitive, emotional and body-focused methodologies to help you tap into practical techniques to bring your values to life.\n
 \n
 Event details: https://www.amosshe.org.uk/latest/event-calendar/living-true-workshop-series.html
PRIORITY:1
END:VEVENT
END:VCALENDAR