BEGIN:VCALENDAR
PRODID:-//Pixl8//Eventfolio//EN
VERSION:2.0
X-WR-TIMEZONE:Europe/London
CALSCALE:GREGORIAN
METHOD:PUBLISH
CLASS:PUBLIC
BEGIN:VTIMEZONE
TZID:Europe/London
LAST-MODIFIED:20260306T231828Z
TZURL:https://www.tzurl.org/zoneinfo-outlook/Europe/London
X-LIC-LOCATION:Europe/London
BEGIN:DAYLIGHT
TZNAME:BST
TZOFFSETFROM:+0000
TZOFFSETTO:+0100
DTSTART:19700329T010000
RRULE:FREQ=YEARLY;BYMONTH=3;BYDAY=-1SU
END:DAYLIGHT
BEGIN:STANDARD
TZNAME:GMT
TZOFFSETFROM:+0100
TZOFFSETTO:+0000
DTSTART:19701025T020000
RRULE:FREQ=YEARLY;BYMONTH=10;BYDAY=-1SU
END:STANDARD
END:VTIMEZONE
BEGIN:VEVENT
DTSTART;TZID=Europe/London;VALUE=DATE:20251113
DTEND;TZID=Europe/London;VALUE=DATE:20251114
DTSTAMP:20260425T190017Z
UID:{078C049D-EEF0-46B7-97104EC4C4F7D285}
LOCATION:Online
SUMMARY:Loss and learning: navigating grief at university
DESCRIPTION:This free Good Grief event explores the challenges of grieving at university and considers ways to improve support for students and staff.\n
 \n
 Event details: https://www.amosshe.org.uk/latest/event-calendar/loss-and-learning-navigating-grief-at-university.html
PRIORITY:1
END:VEVENT
END:VCALENDAR