BEGIN:VCALENDAR
PRODID:-//Pixl8//Eventfolio//EN
VERSION:2.0
X-WR-TIMEZONE:America/New_York
CALSCALE:GREGORIAN
METHOD:PUBLISH
CLASS:PUBLIC
BEGIN:VTIMEZONE
TZID:America/New_York
LAST-MODIFIED:20260306T231828Z
TZURL:https://www.tzurl.org/zoneinfo-outlook/America/New_York
X-LIC-LOCATION:America/New_York
BEGIN:DAYLIGHT
TZNAME:EDT
TZOFFSETFROM:-0500
TZOFFSETTO:-0400
DTSTART:19700308T020000
RRULE:FREQ=YEARLY;BYMONTH=3;BYDAY=2SU
END:DAYLIGHT
BEGIN:STANDARD
TZNAME:EST
TZOFFSETFROM:-0400
TZOFFSETTO:-0500
DTSTART:19701101T020000
RRULE:FREQ=YEARLY;BYMONTH=11;BYDAY=1SU
END:STANDARD
END:VTIMEZONE
BEGIN:VEVENT
DTSTART;TZID=America/New_York;VALUE=DATE:20250826
DTEND;TZID=America/New_York;VALUE=DATE:20250827
DTSTAMP:20260425T162936Z
UID:{F561E4EB-425F-4B06-8FE0C6642D3E6C19}
LOCATION:Online
SUMMARY:Make the most of your limited resources
DESCRIPTION:This US-based Innovative Educators event explores the realities of resource allocation in higher education, offering participants practical tools, conceptual frameworks, and more.\n
 \n
 Event details: https://www.amosshe.org.uk/latest/event-calendar/make-the-most-of-your-limited-resources.html
PRIORITY:1
END:VEVENT
END:VCALENDAR