BEGIN:VCALENDAR
PRODID:-//Pixl8//Eventfolio//EN
VERSION:2.0
X-WR-TIMEZONE:Europe/London
CALSCALE:GREGORIAN
METHOD:PUBLISH
CLASS:PUBLIC
BEGIN:VTIMEZONE
TZID:Europe/London
LAST-MODIFIED:20260306T231828Z
TZURL:https://www.tzurl.org/zoneinfo-outlook/Europe/London
X-LIC-LOCATION:Europe/London
BEGIN:DAYLIGHT
TZNAME:BST
TZOFFSETFROM:+0000
TZOFFSETTO:+0100
DTSTART:19700329T010000
RRULE:FREQ=YEARLY;BYMONTH=3;BYDAY=-1SU
END:DAYLIGHT
BEGIN:STANDARD
TZNAME:GMT
TZOFFSETFROM:+0100
TZOFFSETTO:+0000
DTSTART:19701025T020000
RRULE:FREQ=YEARLY;BYMONTH=10;BYDAY=-1SU
END:STANDARD
END:VTIMEZONE
BEGIN:VEVENT
DTSTART;TZID=Europe/London;VALUE=DATE:20241004
DTEND;TZID=Europe/London;VALUE=DATE:20241005
DTSTAMP:20260423T111305Z
UID:{10B93900-EAD7-45D1-A4CDD71EFF72DB9B}
LOCATION:Online
SUMMARY:Manager makeover: navigating the constantly changing world
DESCRIPTION:This free Impact Factory event explores how to lead inclusively and effectively in a dynamic environment where adapting to these changes is crucial for team success.\n
 \n
 Event details: https://www.amosshe.org.uk/latest/event-calendar/manager-makeover-navigating-the-constantly-changing-world.html
PRIORITY:1
END:VEVENT
END:VCALENDAR