BEGIN:VCALENDAR
PRODID:-//Pixl8//Eventfolio//EN
VERSION:2.0
X-WR-TIMEZONE:Europe/London
CALSCALE:GREGORIAN
METHOD:PUBLISH
CLASS:PUBLIC
BEGIN:VTIMEZONE
TZID:Europe/London
LAST-MODIFIED:20260306T231828Z
TZURL:https://www.tzurl.org/zoneinfo-outlook/Europe/London
X-LIC-LOCATION:Europe/London
BEGIN:DAYLIGHT
TZNAME:BST
TZOFFSETFROM:+0000
TZOFFSETTO:+0100
DTSTART:19700329T010000
RRULE:FREQ=YEARLY;BYMONTH=3;BYDAY=-1SU
END:DAYLIGHT
BEGIN:STANDARD
TZNAME:GMT
TZOFFSETFROM:+0100
TZOFFSETTO:+0000
DTSTART:19701025T020000
RRULE:FREQ=YEARLY;BYMONTH=10;BYDAY=-1SU
END:STANDARD
END:VTIMEZONE
BEGIN:VEVENT
DTSTART;TZID=Europe/London:20241211T100000
DTEND;TZID=Europe/London:20241211T160000
DTSTAMP:20260425T172731Z
UID:{E6FA0145-7024-41A2-95A7EF71A52C5D0E}
LOCATION:Online
SUMMARY:Managing your wellbeing in the workplace
DESCRIPTION:This Civil Service College event helps you manage your wellbeing whilst working from home, a modified workplace or a remote site.\n
 \n
 Event details: https://www.amosshe.org.uk/latest/event-calendar/managing-your-wellbeing-in-the-workplace-1.html
PRIORITY:1
END:VEVENT
END:VCALENDAR