BEGIN:VCALENDAR
PRODID:-//Pixl8//Eventfolio//EN
VERSION:2.0
X-WR-TIMEZONE:Europe/London
CALSCALE:GREGORIAN
METHOD:PUBLISH
CLASS:PUBLIC
BEGIN:VTIMEZONE
TZID:Europe/London
LAST-MODIFIED:20260306T231828Z
TZURL:https://www.tzurl.org/zoneinfo-outlook/Europe/London
X-LIC-LOCATION:Europe/London
BEGIN:DAYLIGHT
TZNAME:BST
TZOFFSETFROM:+0000
TZOFFSETTO:+0100
DTSTART:19700329T010000
RRULE:FREQ=YEARLY;BYMONTH=3;BYDAY=-1SU
END:DAYLIGHT
BEGIN:STANDARD
TZNAME:GMT
TZOFFSETFROM:+0100
TZOFFSETTO:+0000
DTSTART:19701025T020000
RRULE:FREQ=YEARLY;BYMONTH=10;BYDAY=-1SU
END:STANDARD
END:VTIMEZONE
BEGIN:VEVENT
DTSTART;TZID=Europe/London;VALUE=DATE:20251202
DTEND;TZID=Europe/London;VALUE=DATE:20251203
DTSTAMP:20260425T185945Z
UID:{3FBDA080-F8CA-47CF-AA6559F81146E89A}
LOCATION:Online
SUMMARY:Medr consultation event on staff / learner welfare
DESCRIPTION:This free Medr is an opportunity for stakeholders across the sector to engage with their proposed regulatory conditions focused on staff and learner welfare, and equality of opportunity.\n
 \n
 Event details: https://www.amosshe.org.uk/latest/event-calendar/medr-consultation-event-on-staff-learner-welfare.html
PRIORITY:1
END:VEVENT
END:VCALENDAR