BEGIN:VCALENDAR
PRODID:-//Pixl8//Eventfolio//EN
VERSION:2.0
X-WR-TIMEZONE:Europe/London
CALSCALE:GREGORIAN
METHOD:PUBLISH
CLASS:PUBLIC
BEGIN:VTIMEZONE
TZID:Europe/London
LAST-MODIFIED:20260306T231828Z
TZURL:https://www.tzurl.org/zoneinfo-outlook/Europe/London
X-LIC-LOCATION:Europe/London
BEGIN:DAYLIGHT
TZNAME:BST
TZOFFSETFROM:+0000
TZOFFSETTO:+0100
DTSTART:19700329T010000
RRULE:FREQ=YEARLY;BYMONTH=3;BYDAY=-1SU
END:DAYLIGHT
BEGIN:STANDARD
TZNAME:GMT
TZOFFSETFROM:+0100
TZOFFSETTO:+0000
DTSTART:19701025T020000
RRULE:FREQ=YEARLY;BYMONTH=10;BYDAY=-1SU
END:STANDARD
END:VTIMEZONE
BEGIN:VEVENT
DTSTART;TZID=Europe/London;VALUE=DATE:20241127
DTEND;TZID=Europe/London;VALUE=DATE:20241128
DTSTAMP:20260423T141844Z
UID:{E605F576-6ED1-4930-B2707B5D35EBF37C}
LOCATION:Online
SUMMARY:Mental health first aid
DESCRIPTION:This Unipol event qualifies you to become a Mental Health First Aider.\n
 \n
 Event details: https://www.amosshe.org.uk/latest/event-calendar/mental-health-first-aid.html
PRIORITY:1
END:VEVENT
END:VCALENDAR