BEGIN:VCALENDAR
PRODID:-//Pixl8//Eventfolio//EN
VERSION:2.0
X-WR-TIMEZONE:Europe/London
CALSCALE:GREGORIAN
METHOD:PUBLISH
CLASS:PUBLIC
BEGIN:VTIMEZONE
TZID:Europe/London
LAST-MODIFIED:20260306T231828Z
TZURL:https://www.tzurl.org/zoneinfo-outlook/Europe/London
X-LIC-LOCATION:Europe/London
BEGIN:DAYLIGHT
TZNAME:BST
TZOFFSETFROM:+0000
TZOFFSETTO:+0100
DTSTART:19700329T010000
RRULE:FREQ=YEARLY;BYMONTH=3;BYDAY=-1SU
END:DAYLIGHT
BEGIN:STANDARD
TZNAME:GMT
TZOFFSETFROM:+0100
TZOFFSETTO:+0000
DTSTART:19701025T020000
RRULE:FREQ=YEARLY;BYMONTH=10;BYDAY=-1SU
END:STANDARD
END:VTIMEZONE
BEGIN:VEVENT
DTSTART;TZID=Europe/London;VALUE=DATE:20260209
DTEND;TZID=Europe/London;VALUE=DATE:20260211
DTSTAMP:20260423T110433Z
UID:{722BC98B-0827-4057-9D292502B20707A8}
LOCATION:Leeds\, United Kingdom
SUMMARY:Mental health first aid training
DESCRIPTION:This Unipol event teaches you how to become a mental health first aider.\n
 \n
 Event details: https://www.amosshe.org.uk/latest/event-calendar/mental-health-first-aid-training-2.html
PRIORITY:1
END:VEVENT
END:VCALENDAR