BEGIN:VCALENDAR
PRODID:-//Pixl8//Eventfolio//EN
VERSION:2.0
X-WR-TIMEZONE:Europe/London
CALSCALE:GREGORIAN
METHOD:PUBLISH
CLASS:PUBLIC
BEGIN:VTIMEZONE
TZID:Europe/London
LAST-MODIFIED:20260306T231828Z
TZURL:https://www.tzurl.org/zoneinfo-outlook/Europe/London
X-LIC-LOCATION:Europe/London
BEGIN:DAYLIGHT
TZNAME:BST
TZOFFSETFROM:+0000
TZOFFSETTO:+0100
DTSTART:19700329T010000
RRULE:FREQ=YEARLY;BYMONTH=3;BYDAY=-1SU
END:DAYLIGHT
BEGIN:STANDARD
TZNAME:GMT
TZOFFSETFROM:+0100
TZOFFSETTO:+0000
DTSTART:19701025T020000
RRULE:FREQ=YEARLY;BYMONTH=10;BYDAY=-1SU
END:STANDARD
END:VTIMEZONE
BEGIN:VEVENT
DTSTART;TZID=Europe/London;VALUE=DATE:20241122
DTEND;TZID=Europe/London;VALUE=DATE:20241123
DTSTAMP:20260423T161913Z
UID:{BA61A27E-23B9-4AFF-A21A9CCB498E16D3}
LOCATION:Online
SUMMARY:Mental illness and substance misuse: understanding the complex relationship
DESCRIPTION:This Drugs Training event examines the complex interaction between drug and alcohol use and mental illness such as anxiety disorders, severe depression, psychosis and schizophrenia – what is sometimes referred to as ‘Dual Diagnosis’.\n
 \n
 Event details: https://www.amosshe.org.uk/latest/event-calendar/mental-illness-and-substance-misuse-understanding-the-complex-relationship.html
PRIORITY:1
END:VEVENT
END:VCALENDAR