BEGIN:VCALENDAR
PRODID:-//Pixl8//Eventfolio//EN
VERSION:2.0
X-WR-TIMEZONE:Europe/London
CALSCALE:GREGORIAN
METHOD:PUBLISH
CLASS:PUBLIC
BEGIN:VTIMEZONE
TZID:Europe/London
LAST-MODIFIED:20260306T231828Z
TZURL:https://www.tzurl.org/zoneinfo-outlook/Europe/London
X-LIC-LOCATION:Europe/London
BEGIN:DAYLIGHT
TZNAME:BST
TZOFFSETFROM:+0000
TZOFFSETTO:+0100
DTSTART:19700329T010000
RRULE:FREQ=YEARLY;BYMONTH=3;BYDAY=-1SU
END:DAYLIGHT
BEGIN:STANDARD
TZNAME:GMT
TZOFFSETFROM:+0100
TZOFFSETTO:+0000
DTSTART:19701025T020000
RRULE:FREQ=YEARLY;BYMONTH=10;BYDAY=-1SU
END:STANDARD
END:VTIMEZONE
BEGIN:VEVENT
DTSTART;TZID=Europe/London;VALUE=DATE:20250514
DTEND;TZID=Europe/London;VALUE=DATE:20250515
DTSTAMP:20260425T172643Z
UID:{ACB38BCB-1F9B-4FD9-9C76C4133A626A46}
LOCATION:Sheffield\, United Kingdom
SUMMARY:Mental wellbeing in HE conference 2025
DESCRIPTION:This Advance HE event explores the evolving approaches to mental wellbeing within higher education, focusing on innovative strategies and practices that enhance the wellbeing of staff and students.\n
 \n
 Event details: https://www.amosshe.org.uk/latest/event-calendar/mental-wellbeing-in-he-conference-2025.html
PRIORITY:1
END:VEVENT
END:VCALENDAR