BEGIN:VCALENDAR
PRODID:-//Pixl8//Eventfolio//EN
VERSION:2.0
X-WR-TIMEZONE:America/Chicago
CALSCALE:GREGORIAN
METHOD:PUBLISH
CLASS:PUBLIC
BEGIN:VTIMEZONE
TZID:America/Chicago
LAST-MODIFIED:20260306T231828Z
TZURL:https://www.tzurl.org/zoneinfo-outlook/America/Chicago
X-LIC-LOCATION:America/Chicago
BEGIN:DAYLIGHT
TZNAME:CDT
TZOFFSETFROM:-0600
TZOFFSETTO:-0500
DTSTART:19700308T020000
RRULE:FREQ=YEARLY;BYMONTH=3;BYDAY=2SU
END:DAYLIGHT
BEGIN:STANDARD
TZNAME:CST
TZOFFSETFROM:-0500
TZOFFSETTO:-0600
DTSTART:19701101T020000
RRULE:FREQ=YEARLY;BYMONTH=11;BYDAY=1SU
END:STANDARD
END:VTIMEZONE
BEGIN:VEVENT
DTSTART;TZID=America/Chicago;VALUE=DATE:20260307
DTEND;TZID=America/Chicago;VALUE=DATE:20260311
DTSTAMP:20260423T105830Z
UID:{36A7C7D7-0B71-4263-ADAA51042D6EBE7D}
LOCATION:Kansas City\, United States
SUMMARY:NASPA annual conference
DESCRIPTION:This US-based NASPA (National Association of Student Personnel Administrators) event invites you to connect with colleagues and participate in critical professional development that will inspire and support you in the work you do on campus as a Student Services professional.\n
 \n
 Event details: https://www.amosshe.org.uk/latest/event-calendar/naspa-annual-conference.html
PRIORITY:1
END:VEVENT
END:VCALENDAR